BEGIN:VCALENDAR
VERSION:2.0
PRODID:-//Pension-Heib - ECPv6.15.20//NONSGML v1.0//EN
CALSCALE:GREGORIAN
METHOD:PUBLISH
X-ORIGINAL-URL:https://pension-heib.de
X-WR-CALDESC:Veranstaltungen für Pension-Heib
REFRESH-INTERVAL;VALUE=DURATION:PT1H
X-Robots-Tag:noindex
X-PUBLISHED-TTL:PT1H
BEGIN:VTIMEZONE
TZID:Europe/Berlin
BEGIN:DAYLIGHT
TZOFFSETFROM:+0100
TZOFFSETTO:+0200
TZNAME:CEST
DTSTART:20250330T010000
END:DAYLIGHT
BEGIN:STANDARD
TZOFFSETFROM:+0200
TZOFFSETTO:+0100
TZNAME:CET
DTSTART:20251026T010000
END:STANDARD
BEGIN:DAYLIGHT
TZOFFSETFROM:+0100
TZOFFSETTO:+0200
TZNAME:CEST
DTSTART:20260329T010000
END:DAYLIGHT
BEGIN:STANDARD
TZOFFSETFROM:+0200
TZOFFSETTO:+0100
TZNAME:CET
DTSTART:20261025T010000
END:STANDARD
BEGIN:DAYLIGHT
TZOFFSETFROM:+0100
TZOFFSETTO:+0200
TZNAME:CEST
DTSTART:20270328T010000
END:DAYLIGHT
BEGIN:STANDARD
TZOFFSETFROM:+0200
TZOFFSETTO:+0100
TZNAME:CET
DTSTART:20271031T010000
END:STANDARD
END:VTIMEZONE
BEGIN:VEVENT
DTSTART;VALUE=DATE:20260904
DTEND;VALUE=DATE:20260907
DTSTAMP:20260421T143955
CREATED:20260116T142633Z
LAST-MODIFIED:20260116T142633Z
UID:2203-1788480000-1788739199@pension-heib.de
SUMMARY:Weinfest am Calmont in Bremm (2026)
DESCRIPTION:
URL:https://pension-heib.de/veranstaltungen/weinfest-am-calmont-in-bremm-2026
LOCATION:Bremm\, Bremm\, Rheinland-Pfalz\, 56814\, Deutschland
END:VEVENT
BEGIN:VEVENT
DTSTART;VALUE=DATE:20260905
DTEND;VALUE=DATE:20260907
DTSTAMP:20260421T143955
CREATED:20260116T142647Z
LAST-MODIFIED:20260116T142647Z
UID:2204-1788566400-1788739199@pension-heib.de
SUMMARY:Kirmes in Cond (2026)
DESCRIPTION:
URL:https://pension-heib.de/veranstaltungen/kirmes-in-cond-2026
LOCATION:Cochem\, Cochem\, Rheinland-Pfalz\, 56812\, Deutschland
END:VEVENT
BEGIN:VEVENT
DTSTART;VALUE=DATE:20260911
DTEND;VALUE=DATE:20260914
DTSTAMP:20260421T143955
CREATED:20260116T142647Z
LAST-MODIFIED:20260116T142647Z
UID:2205-1789084800-1789343999@pension-heib.de
SUMMARY:Kellerkirmes in Mesenich (2026)
DESCRIPTION:
URL:https://pension-heib.de/veranstaltungen/kellerkirmes-in-mesenich-2026
LOCATION:Mesenich\, Mesenich\, Rheinland-Pfalz\, 56820\, Deutschland
END:VEVENT
BEGIN:VEVENT
DTSTART;VALUE=DATE:20260911
DTEND;VALUE=DATE:20260914
DTSTAMP:20260421T143955
CREATED:20260116T142647Z
LAST-MODIFIED:20260116T142647Z
UID:2206-1789084800-1789343999@pension-heib.de
SUMMARY:Straßenweinfest in Ediger (2026)
DESCRIPTION:
URL:https://pension-heib.de/veranstaltungen/strassenweinfest-in-ediger-2026
LOCATION:Ediger-Eller\, Ediger-Eller\, Rheinland-Pfalz\, 56814\, Deutschland
END:VEVENT
BEGIN:VEVENT
DTSTART;VALUE=DATE:20260911
DTEND;VALUE=DATE:20260914
DTSTAMP:20260421T143955
CREATED:20260116T142648Z
LAST-MODIFIED:20260116T142648Z
UID:2207-1789084800-1789343999@pension-heib.de
SUMMARY:Sehler Quetschenfest in Cochem (2026)
DESCRIPTION:
URL:https://pension-heib.de/veranstaltungen/sehler-quetschenfest-in-cochem-2026
LOCATION:Cochem\, Cochem\, Rheinland-Pfalz\, 56812\, Deutschland
END:VEVENT
BEGIN:VEVENT
DTSTART;VALUE=DATE:20260912
DTEND;VALUE=DATE:20260914
DTSTAMP:20260421T143955
CREATED:20260116T142847Z
LAST-MODIFIED:20260116T142847Z
UID:2209-1789171200-1789343999@pension-heib.de
SUMMARY:Herbstfest in Ernst (2026)
DESCRIPTION:
URL:https://pension-heib.de/veranstaltungen/herbstfest-in-ernst-2026
LOCATION:Ernst\, Ernst\, Rheinland-Pfalz\, 56814\, Deutschland
END:VEVENT
BEGIN:VEVENT
DTSTART;VALUE=DATE:20260912
DTEND;VALUE=DATE:20260915
DTSTAMP:20260421T143955
CREATED:20260116T142648Z
LAST-MODIFIED:20260116T142648Z
UID:2208-1789171200-1789430399@pension-heib.de
SUMMARY:St. Martinus Kirmes in Ellenz (2026)
DESCRIPTION:
URL:https://pension-heib.de/veranstaltungen/st-martinus-kirmes-in-ellenz-2026
LOCATION:Ellenz-Poltersdorf\, Ellenz-Poltersdorf\, Rheinland-Pfalz\, 56821\, Deutschland
END:VEVENT
BEGIN:VEVENT
DTSTART;VALUE=DATE:20260918
DTEND;VALUE=DATE:20260921
DTSTAMP:20260421T143955
CREATED:20260116T142847Z
LAST-MODIFIED:20260116T142847Z
UID:2210-1789689600-1789948799@pension-heib.de
SUMMARY:Winzerhoffest in Senheim (2026)
DESCRIPTION:
URL:https://pension-heib.de/veranstaltungen/winzerhoffest-in-senheim-2026
LOCATION:Senheim-Senhals\, Senheim-Senhals\, Rheinland-Pfalz\, 56820\, Deutschland
END:VEVENT
BEGIN:VEVENT
DTSTART;VALUE=DATE:20260919
DTEND;VALUE=DATE:20260921
DTSTAMP:20260421T143955
CREATED:20260116T142847Z
LAST-MODIFIED:20260116T142847Z
UID:2211-1789776000-1789948799@pension-heib.de
SUMMARY:Erntemarkt des Mosel-Weinbergpfirsich in Cochem (2026)
DESCRIPTION:
URL:https://pension-heib.de/veranstaltungen/erntemarkt-des-mosel-weinbergpfirsich-in-cochem-2026
LOCATION:Cochem\, Cochem\, Rheinland-Pfalz\, 56812\, Deutschland
END:VEVENT
BEGIN:VEVENT
DTSTART;VALUE=DATE:20260930
DTEND;VALUE=DATE:20261001
DTSTAMP:20260421T143955
CREATED:20260116T142903Z
LAST-MODIFIED:20260116T142903Z
UID:2214-1790726400-1790812799@pension-heib.de
SUMMARY:Michelsmarkt in Cochem (2026)
DESCRIPTION:
URL:https://pension-heib.de/veranstaltungen/michelsmarkt-in-cochem-2026
LOCATION:Cochem\, Cochem\, Rheinland-Pfalz\, 56812\, Deutschland
END:VEVENT
END:VCALENDAR