BEGIN:VCALENDAR
VERSION:2.0
PRODID:-//Pension-Heib - ECPv6.15.20//NONSGML v1.0//EN
CALSCALE:GREGORIAN
METHOD:PUBLISH
X-ORIGINAL-URL:https://pension-heib.de
X-WR-CALDESC:Veranstaltungen für Pension-Heib
REFRESH-INTERVAL;VALUE=DURATION:PT1H
X-Robots-Tag:noindex
X-PUBLISHED-TTL:PT1H
BEGIN:VTIMEZONE
TZID:Europe/Berlin
BEGIN:DAYLIGHT
TZOFFSETFROM:+0100
TZOFFSETTO:+0200
TZNAME:CEST
DTSTART:20250330T010000
END:DAYLIGHT
BEGIN:STANDARD
TZOFFSETFROM:+0200
TZOFFSETTO:+0100
TZNAME:CET
DTSTART:20251026T010000
END:STANDARD
BEGIN:DAYLIGHT
TZOFFSETFROM:+0100
TZOFFSETTO:+0200
TZNAME:CEST
DTSTART:20260329T010000
END:DAYLIGHT
BEGIN:STANDARD
TZOFFSETFROM:+0200
TZOFFSETTO:+0100
TZNAME:CET
DTSTART:20261025T010000
END:STANDARD
BEGIN:DAYLIGHT
TZOFFSETFROM:+0100
TZOFFSETTO:+0200
TZNAME:CEST
DTSTART:20270328T010000
END:DAYLIGHT
BEGIN:STANDARD
TZOFFSETFROM:+0200
TZOFFSETTO:+0100
TZNAME:CET
DTSTART:20271031T010000
END:STANDARD
END:VTIMEZONE
BEGIN:VEVENT
DTSTART;VALUE=DATE:20260731
DTEND;VALUE=DATE:20260803
DTSTAMP:20260421T125302
CREATED:20260116T142617Z
LAST-MODIFIED:20260116T142617Z
UID:2197-1785456000-1785715199@pension-heib.de
SUMMARY:Weinfest in Mesenich (2026)
DESCRIPTION:
URL:https://pension-heib.de/veranstaltungen/weinfest-in-mesenich-2026
LOCATION:Mesenich\, Mesenich\, Rheinland-Pfalz\, 56820\, Deutschland
END:VEVENT
BEGIN:VEVENT
DTSTART;VALUE=DATE:20260731
DTEND;VALUE=DATE:20260804
DTSTAMP:20260421T125303
CREATED:20260116T142617Z
LAST-MODIFIED:20260116T142617Z
UID:2195-1785456000-1785801599@pension-heib.de
SUMMARY:Wein- und Heimatfest in Klotten (2026)
DESCRIPTION:
URL:https://pension-heib.de/veranstaltungen/wein-und-heimatfest-in-klotten-2026
LOCATION:Klotten\, Klotten\, Rheinland-Pfalz\, 56818\, Deutschland
END:VEVENT
BEGIN:VEVENT
DTSTART;VALUE=DATE:20260801
DTEND;VALUE=DATE:20260803
DTSTAMP:20260421T125303
CREATED:20260116T142618Z
LAST-MODIFIED:20260116T142618Z
UID:2198-1785542400-1785715199@pension-heib.de
SUMMARY:Burgfest in Cochem (2026)
DESCRIPTION:
URL:https://pension-heib.de/veranstaltungen/burgfest-in-cochem-2026
LOCATION:Cochem\, Cochem\, Rheinland-Pfalz\, 56812\, Deutschland
END:VEVENT
BEGIN:VEVENT
DTSTART;VALUE=DATE:20260801
DTEND;VALUE=DATE:20260804
DTSTAMP:20260421T125303
CREATED:20260116T142617Z
LAST-MODIFIED:20260116T142617Z
UID:2196-1785542400-1785801599@pension-heib.de
SUMMARY:Kirmes in Ernst (2026)
DESCRIPTION:
URL:https://pension-heib.de/veranstaltungen/kirmes-in-ernst-2026
LOCATION:Ernst\, Ernst\, Rheinland-Pfalz\, 56814\, Deutschland
END:VEVENT
BEGIN:VEVENT
DTSTART;VALUE=DATE:20260805
DTEND;VALUE=DATE:20260806
DTSTAMP:20260421T125303
CREATED:20260116T142557Z
LAST-MODIFIED:20260116T142557Z
UID:2191-1785888000-1785974399@pension-heib.de
SUMMARY:Grillabend im Hafenvorgelände in Senheim 3/4 (2026)
DESCRIPTION:
URL:https://pension-heib.de/veranstaltungen/grillabend-im-hafenvorgelaende-in-senheim-3-4-2026
LOCATION:Senheim-Senhals\, Senheim-Senhals\, Rheinland-Pfalz\, 56820\, Deutschland
END:VEVENT
BEGIN:VEVENT
DTSTART;VALUE=DATE:20260807
DTEND;VALUE=DATE:20260811
DTSTAMP:20260421T125303
CREATED:20260116T142632Z
LAST-MODIFIED:20260116T142632Z
UID:2199-1786060800-1786406399@pension-heib.de
SUMMARY:Weinfest Osterlämmchen in Ediger (2026)
DESCRIPTION:
URL:https://pension-heib.de/veranstaltungen/weinfest-osterlaemmchen-in-ediger-2026
LOCATION:Ediger-Eller\, Ediger-Eller\, Rheinland-Pfalz\, 56814\, Deutschland
END:VEVENT
BEGIN:VEVENT
DTSTART;VALUE=DATE:20260807
DTEND;VALUE=DATE:20260811
DTSTAMP:20260421T125303
CREATED:20260116T142632Z
LAST-MODIFIED:20260116T142632Z
UID:2200-1786060800-1786406399@pension-heib.de
SUMMARY:Winzerfest in Bruttig (2026)
DESCRIPTION:
URL:https://pension-heib.de/veranstaltungen/winzerfest-in-bruttig-2026
LOCATION:Bruttig-Fankel\, Bruttig-Fankel\, Rheinland-Pfalz\, 56814\, Deutschland
END:VEVENT
BEGIN:VEVENT
DTSTART;VALUE=DATE:20260812
DTEND;VALUE=DATE:20260813
DTSTAMP:20260421T125303
CREATED:20260116T142500Z
LAST-MODIFIED:20260116T142500Z
UID:2176-1786492800-1786579199@pension-heib.de
SUMMARY:Lagerfeuer auf dem Festplatz in Poltersdorg 6/6 (2026)
DESCRIPTION:
URL:https://pension-heib.de/veranstaltungen/lagerfeuer-auf-dem-festplatz-in-poltersdorg-6-6-2026
LOCATION:Ellenz-Poltersdorf\, Ellenz-Poltersdorf\, Rheinland-Pfalz\, 56821\, Deutschland
END:VEVENT
BEGIN:VEVENT
DTSTART;VALUE=DATE:20260812
DTEND;VALUE=DATE:20260813
DTSTAMP:20260421T125303
CREATED:20260116T142558Z
LAST-MODIFIED:20260116T142558Z
UID:2192-1786492800-1786579199@pension-heib.de
SUMMARY:Grillabend im Hafenvorgelände in Senheim 4/4 (2026)
DESCRIPTION:
URL:https://pension-heib.de/veranstaltungen/grillabend-im-hafenvorgelaende-in-senheim-4-4-2026
LOCATION:Senheim-Senhals\, Senheim-Senhals\, Rheinland-Pfalz\, 56820\, Deutschland
END:VEVENT
BEGIN:VEVENT
DTSTART;VALUE=DATE:20260821
DTEND;VALUE=DATE:20260824
DTSTAMP:20260421T125303
CREATED:20260116T142632Z
LAST-MODIFIED:20260116T142632Z
UID:2201-1787270400-1787529599@pension-heib.de
SUMMARY:Weinfestival in Ernst (2026)
DESCRIPTION:
URL:https://pension-heib.de/veranstaltungen/weinfestival-in-ernst-2026
LOCATION:Ernst\, Ernst\, Rheinland-Pfalz\, 56814\, Deutschland
END:VEVENT
BEGIN:VEVENT
DTSTART;VALUE=DATE:20260827
DTEND;VALUE=DATE:20260901
DTSTAMP:20260421T125303
CREATED:20260116T142633Z
LAST-MODIFIED:20260116T142633Z
UID:2202-1787788800-1788220799@pension-heib.de
SUMMARY:Wein- und Heimatfest in Cochem (2026)
DESCRIPTION:
URL:https://pension-heib.de/veranstaltungen/wein-und-heimatfest-in-cochem-2026
LOCATION:Cochem\, Cochem\, Rheinland-Pfalz\, 56812\, Deutschland
END:VEVENT
END:VCALENDAR