BEGIN:VCALENDAR
VERSION:2.0
PRODID:-//Pension-Heib - ECPv6.15.20//NONSGML v1.0//EN
CALSCALE:GREGORIAN
METHOD:PUBLISH
X-WR-CALNAME:Pension-Heib
X-ORIGINAL-URL:https://pension-heib.de
X-WR-CALDESC:Veranstaltungen für Pension-Heib
REFRESH-INTERVAL;VALUE=DURATION:PT1H
X-Robots-Tag:noindex
X-PUBLISHED-TTL:PT1H
BEGIN:VTIMEZONE
TZID:Europe/Berlin
BEGIN:DAYLIGHT
TZOFFSETFROM:+0100
TZOFFSETTO:+0200
TZNAME:CEST
DTSTART:20240331T010000
END:DAYLIGHT
BEGIN:STANDARD
TZOFFSETFROM:+0200
TZOFFSETTO:+0100
TZNAME:CET
DTSTART:20241027T010000
END:STANDARD
BEGIN:DAYLIGHT
TZOFFSETFROM:+0100
TZOFFSETTO:+0200
TZNAME:CEST
DTSTART:20250330T010000
END:DAYLIGHT
BEGIN:STANDARD
TZOFFSETFROM:+0200
TZOFFSETTO:+0100
TZNAME:CET
DTSTART:20251026T010000
END:STANDARD
BEGIN:DAYLIGHT
TZOFFSETFROM:+0100
TZOFFSETTO:+0200
TZNAME:CEST
DTSTART:20260329T010000
END:DAYLIGHT
BEGIN:STANDARD
TZOFFSETFROM:+0200
TZOFFSETTO:+0100
TZNAME:CET
DTSTART:20261025T010000
END:STANDARD
END:VTIMEZONE
BEGIN:VEVENT
DTSTART;VALUE=DATE:20251128
DTEND;VALUE=DATE:20251222
DTSTAMP:20260419T145316
CREATED:20241219T085626Z
LAST-MODIFIED:20241219T085626Z
UID:2090-1764288000-1766361599@pension-heib.de
SUMMARY:Weihnachtsmarkt in Cochem (2025)
DESCRIPTION:
URL:https://pension-heib.de/veranstaltungen/weihnachtsmarkt-in-cochem-2025
LOCATION:Cochem\, Cochem\, Rheinland-Pfalz\, 56812\, Deutschland
END:VEVENT
BEGIN:VEVENT
DTSTART;VALUE=DATE:20251201
DTEND;VALUE=DATE:20251202
DTSTAMP:20260419T145316
CREATED:20241219T085626Z
LAST-MODIFIED:20241219T085626Z
UID:2091-1764547200-1764633599@pension-heib.de
SUMMARY:Weihnachtsmarkt in Briedern (2025)
DESCRIPTION:
URL:https://pension-heib.de/veranstaltungen/weihnachtsmarkt-in-briedern-2025
LOCATION:Briedern\, Briedern\, Rheinland-Pfalz\, 56820\, Deutschland
END:VEVENT
BEGIN:VEVENT
DTSTART;VALUE=DATE:20251206
DTEND;VALUE=DATE:20251208
DTSTAMP:20260419T145316
CREATED:20241219T085627Z
LAST-MODIFIED:20241219T085627Z
UID:2092-1764979200-1765151999@pension-heib.de
SUMMARY:Adventszauber auf der Reichsburg in Cochem (2025)
DESCRIPTION:
URL:https://pension-heib.de/veranstaltungen/adventszauber-auf-der-reichsburg-in-cochem-2025
LOCATION:Cochem\, Cochem\, Rheinland-Pfalz\, 56812\, Deutschland
END:VEVENT
BEGIN:VEVENT
DTSTART;VALUE=DATE:20251206
DTEND;VALUE=DATE:20251208
DTSTAMP:20260419T145316
CREATED:20241219T085627Z
LAST-MODIFIED:20241219T085627Z
UID:2093-1764979200-1765151999@pension-heib.de
SUMMARY:Wein & Winter in Eller (2025)
DESCRIPTION:
URL:https://pension-heib.de/veranstaltungen/wein-winter-in-eller-2025
LOCATION:Ediger-Eller\, Ediger-Eller\, Rheinland-Pfalz\, 56814\, Deutschland
END:VEVENT
BEGIN:VEVENT
DTSTART;VALUE=DATE:20251213
DTEND;VALUE=DATE:20251215
DTSTAMP:20260419T145316
CREATED:20241219T085627Z
LAST-MODIFIED:20241219T085627Z
UID:2094-1765584000-1765756799@pension-heib.de
SUMMARY:Burgweihnacht in Cochem (2025)
DESCRIPTION:
URL:https://pension-heib.de/veranstaltungen/burgweihnacht-in-cochem-2025
LOCATION:Cochem\, Cochem\, Rheinland-Pfalz\, 56812\, Deutschland
END:VEVENT
BEGIN:VEVENT
DTSTART;VALUE=DATE:20251228
DTEND;VALUE=DATE:20251230
DTSTAMP:20260419T145316
CREATED:20241219T085641Z
LAST-MODIFIED:20241219T085641Z
UID:2095-1766880000-1767052799@pension-heib.de
SUMMARY:Lischda Lousda Daach in Ernst (2025)
DESCRIPTION:
URL:https://pension-heib.de/veranstaltungen/lischda-lousda-daach-in-ernst-2025
LOCATION:Ernst\, Ernst\, Rheinland-Pfalz\, 56814\, Deutschland
END:VEVENT
END:VCALENDAR