BEGIN:VCALENDAR
VERSION:2.0
PRODID:-//Pension-Heib - ECPv6.15.20//NONSGML v1.0//EN
CALSCALE:GREGORIAN
METHOD:PUBLISH
X-WR-CALNAME:Pension-Heib
X-ORIGINAL-URL:https://pension-heib.de
X-WR-CALDESC:Veranstaltungen für Pension-Heib
REFRESH-INTERVAL;VALUE=DURATION:PT1H
X-Robots-Tag:noindex
X-PUBLISHED-TTL:PT1H
BEGIN:VTIMEZONE
TZID:Europe/Berlin
BEGIN:DAYLIGHT
TZOFFSETFROM:+0100
TZOFFSETTO:+0200
TZNAME:CEST
DTSTART:20240331T010000
END:DAYLIGHT
BEGIN:STANDARD
TZOFFSETFROM:+0200
TZOFFSETTO:+0100
TZNAME:CET
DTSTART:20241027T010000
END:STANDARD
BEGIN:DAYLIGHT
TZOFFSETFROM:+0100
TZOFFSETTO:+0200
TZNAME:CEST
DTSTART:20250330T010000
END:DAYLIGHT
BEGIN:STANDARD
TZOFFSETFROM:+0200
TZOFFSETTO:+0100
TZNAME:CET
DTSTART:20251026T010000
END:STANDARD
BEGIN:DAYLIGHT
TZOFFSETFROM:+0100
TZOFFSETTO:+0200
TZNAME:CEST
DTSTART:20260329T010000
END:DAYLIGHT
BEGIN:STANDARD
TZOFFSETFROM:+0200
TZOFFSETTO:+0100
TZNAME:CET
DTSTART:20261025T010000
END:STANDARD
END:VTIMEZONE
BEGIN:VEVENT
DTSTART;VALUE=DATE:20250828
DTEND;VALUE=DATE:20250902
DTSTAMP:20260419T195028
CREATED:20241219T085518Z
LAST-MODIFIED:20241219T085518Z
UID:2073-1756339200-1756771199@pension-heib.de
SUMMARY:Wein- und Heimatfest in Cochem (2025)
DESCRIPTION:
URL:https://pension-heib.de/veranstaltungen/wein-und-heimatfest-in-cochem-2025
LOCATION:Cochem\, Cochem\, Rheinland-Pfalz\, 56812\, Deutschland
END:VEVENT
BEGIN:VEVENT
DTSTART;VALUE=DATE:20250905
DTEND;VALUE=DATE:20250908
DTSTAMP:20260419T195028
CREATED:20241219T085518Z
LAST-MODIFIED:20241219T085518Z
UID:2074-1757030400-1757289599@pension-heib.de
SUMMARY:Backesfest in Briedern (2025)
DESCRIPTION:
URL:https://pension-heib.de/veranstaltungen/backesfest-in-briedern-2025
LOCATION:Briedern\, Briedern\, Rheinland-Pfalz\, 56820\, Deutschland
END:VEVENT
BEGIN:VEVENT
DTSTART;VALUE=DATE:20250905
DTEND;VALUE=DATE:20250908
DTSTAMP:20260419T195028
CREATED:20241219T085533Z
LAST-MODIFIED:20241219T085533Z
UID:2075-1757030400-1757289599@pension-heib.de
SUMMARY:Weinfest am Calmont in Bremm (2025)
DESCRIPTION:
URL:https://pension-heib.de/veranstaltungen/weinfest-am-calmont-in-bremm-2025
LOCATION:Bremm\, Bremm\, Rheinland-Pfalz\, 56814\, Deutschland
END:VEVENT
BEGIN:VEVENT
DTSTART;VALUE=DATE:20250906
DTEND;VALUE=DATE:20250908
DTSTAMP:20260419T195028
CREATED:20241219T085533Z
LAST-MODIFIED:20241219T085533Z
UID:2076-1757116800-1757289599@pension-heib.de
SUMMARY:Weinfest River and Wine in Valwig (2025)
DESCRIPTION:
URL:https://pension-heib.de/veranstaltungen/weinfest-river-and-wine-in-valwig-2025
LOCATION:Valwig\, Valwig\, Rheinland-Pfalz\, 56812\, Deutschland
END:VEVENT
BEGIN:VEVENT
DTSTART;VALUE=DATE:20250906
DTEND;VALUE=DATE:20250908
DTSTAMP:20260419T195028
CREATED:20241219T085533Z
LAST-MODIFIED:20241219T085533Z
UID:2077-1757116800-1757289599@pension-heib.de
SUMMARY:Pfarrfest in Ernst (2025)
DESCRIPTION:
URL:https://pension-heib.de/veranstaltungen/pfarrfest-in-ernst-2025
LOCATION:Ernst\, Ernst\, Rheinland-Pfalz\, 56814\, Deutschland
END:VEVENT
BEGIN:VEVENT
DTSTART;VALUE=DATE:20250906
DTEND;VALUE=DATE:20250909
DTSTAMP:20260419T195028
CREATED:20241219T085534Z
LAST-MODIFIED:20241219T085534Z
UID:2078-1757116800-1757375999@pension-heib.de
SUMMARY:St. Martinus Kirmes in Ellenz (2025)
DESCRIPTION:
URL:https://pension-heib.de/veranstaltungen/st-martinus-kirmes-in-ellenz-2025
LOCATION:Ellenz-Poltersdorf\, Ellenz-Poltersdorf\, Rheinland-Pfalz\, 56821\, Deutschland
END:VEVENT
BEGIN:VEVENT
DTSTART;VALUE=DATE:20250912
DTEND;VALUE=DATE:20250915
DTSTAMP:20260419T195028
CREATED:20241219T085534Z
LAST-MODIFIED:20241219T085534Z
UID:2079-1757635200-1757894399@pension-heib.de
SUMMARY:Sehler Quetschenfest in Cochem (2025)
DESCRIPTION:
URL:https://pension-heib.de/veranstaltungen/sehler-quetschenfest-in-cochem-2025
LOCATION:Cochem\, Cochem\, Rheinland-Pfalz\, 56812\, Deutschland
END:VEVENT
BEGIN:VEVENT
DTSTART;VALUE=DATE:20250912
DTEND;VALUE=DATE:20250915
DTSTAMP:20260419T195028
CREATED:20241219T085556Z
LAST-MODIFIED:20241219T085556Z
UID:2081-1757635200-1757894399@pension-heib.de
SUMMARY:Winzerhoffest in Senheim (2025)
DESCRIPTION:
URL:https://pension-heib.de/veranstaltungen/winzerhoffest-in-senheim-2025
LOCATION:Senheim-Senhals\, Senheim-Senhals\, Rheinland-Pfalz\, 56820\, Deutschland
END:VEVENT
BEGIN:VEVENT
DTSTART;VALUE=DATE:20250912
DTEND;VALUE=DATE:20250915
DTSTAMP:20260419T195028
CREATED:20241219T085557Z
LAST-MODIFIED:20241219T085557Z
UID:2084-1757635200-1757894399@pension-heib.de
SUMMARY:Straßenweinfest in Ediger (2025)
DESCRIPTION:
URL:https://pension-heib.de/veranstaltungen/strassenweinfest-in-ediger-2025
LOCATION:Ediger-Eller\, Ediger-Eller\, Rheinland-Pfalz\, 56814\, Deutschland
END:VEVENT
BEGIN:VEVENT
DTSTART;VALUE=DATE:20250913
DTEND;VALUE=DATE:20250915
DTSTAMP:20260419T195028
CREATED:20241219T085556Z
LAST-MODIFIED:20241219T085556Z
UID:2080-1757721600-1757894399@pension-heib.de
SUMMARY:Herbstfest in Ernst (2025)
DESCRIPTION:
URL:https://pension-heib.de/veranstaltungen/herbstfest-in-ernst-2025
LOCATION:Ernst\, Ernst\, Rheinland-Pfalz\, 56814\, Deutschland
END:VEVENT
BEGIN:VEVENT
DTSTART;VALUE=DATE:20250920
DTEND;VALUE=DATE:20250922
DTSTAMP:20260419T195028
CREATED:20241219T085557Z
LAST-MODIFIED:20241219T085557Z
UID:2082-1758326400-1758499199@pension-heib.de
SUMMARY:Erntemarkt des Mosel-Weinbergpfirsich in Cochem (2025)
DESCRIPTION:
URL:https://pension-heib.de/veranstaltungen/erntemarkt-des-mosel-weinbergpfirsich-in-cochem-2025
LOCATION:Cochem\, Cochem\, Rheinland-Pfalz\, 56812\, Deutschland
END:VEVENT
BEGIN:VEVENT
DTSTART;VALUE=DATE:20250921
DTEND;VALUE=DATE:20250922
DTSTAMP:20260419T195028
CREATED:20241219T085557Z
LAST-MODIFIED:20241219T085557Z
UID:2083-1758412800-1758499199@pension-heib.de
SUMMARY:Walnuss-Markt in Ernst (2025)
DESCRIPTION:
URL:https://pension-heib.de/veranstaltungen/walnuss-markt-in-ernst-2025
LOCATION:Ernst\, Ernst\, Rheinland-Pfalz\, 56814\, Deutschland
END:VEVENT
END:VCALENDAR