BEGIN:VCALENDAR
VERSION:2.0
PRODID:-//Pension-Heib - ECPv6.15.20//NONSGML v1.0//EN
CALSCALE:GREGORIAN
METHOD:PUBLISH
X-WR-CALNAME:Pension-Heib
X-ORIGINAL-URL:https://pension-heib.de
X-WR-CALDESC:Veranstaltungen für Pension-Heib
REFRESH-INTERVAL;VALUE=DURATION:PT1H
X-Robots-Tag:noindex
X-PUBLISHED-TTL:PT1H
BEGIN:VTIMEZONE
TZID:Europe/Berlin
BEGIN:DAYLIGHT
TZOFFSETFROM:+0100
TZOFFSETTO:+0200
TZNAME:CEST
DTSTART:20240331T010000
END:DAYLIGHT
BEGIN:STANDARD
TZOFFSETFROM:+0200
TZOFFSETTO:+0100
TZNAME:CET
DTSTART:20241027T010000
END:STANDARD
BEGIN:DAYLIGHT
TZOFFSETFROM:+0100
TZOFFSETTO:+0200
TZNAME:CEST
DTSTART:20250330T010000
END:DAYLIGHT
BEGIN:STANDARD
TZOFFSETFROM:+0200
TZOFFSETTO:+0100
TZNAME:CET
DTSTART:20251026T010000
END:STANDARD
BEGIN:DAYLIGHT
TZOFFSETFROM:+0100
TZOFFSETTO:+0200
TZNAME:CEST
DTSTART:20260329T010000
END:DAYLIGHT
BEGIN:STANDARD
TZOFFSETFROM:+0200
TZOFFSETTO:+0100
TZNAME:CET
DTSTART:20261025T010000
END:STANDARD
END:VTIMEZONE
BEGIN:VEVENT
DTSTART;VALUE=DATE:20250801
DTEND;VALUE=DATE:20250804
DTSTAMP:20260421T125222
CREATED:20241219T085501Z
LAST-MODIFIED:20241219T085501Z
UID:2067-1754006400-1754265599@pension-heib.de
SUMMARY:Weinfest in Mesenich (2025)
DESCRIPTION:
URL:https://pension-heib.de/veranstaltungen/weinfest-in-mesenich-2025
LOCATION:Mesenich\, Mesenich\, Rheinland-Pfalz\, 56820\, Deutschland
END:VEVENT
BEGIN:VEVENT
DTSTART;VALUE=DATE:20250801
DTEND;VALUE=DATE:20250805
DTSTAMP:20260421T125222
CREATED:20241219T085501Z
LAST-MODIFIED:20241219T085501Z
UID:2065-1754006400-1754351999@pension-heib.de
SUMMARY:Wein- und Heimatfest in Klotten (2025)
DESCRIPTION:
URL:https://pension-heib.de/veranstaltungen/wein-und-heimatfest-in-klotten-2025
LOCATION:Klotten\, Klotten\, Rheinland-Pfalz\, 56818\, Deutschland
END:VEVENT
BEGIN:VEVENT
DTSTART;VALUE=DATE:20250801
DTEND;VALUE=DATE:20250805
DTSTAMP:20260421T125222
CREATED:20241219T085501Z
LAST-MODIFIED:20241219T085501Z
UID:2066-1754006400-1754351999@pension-heib.de
SUMMARY:Kirmes in Ernst (2025)
DESCRIPTION:
URL:https://pension-heib.de/veranstaltungen/kirmes-in-ernst-2025
LOCATION:Ernst\, Ernst\, Rheinland-Pfalz\, 56814\, Deutschland
END:VEVENT
BEGIN:VEVENT
DTSTART;VALUE=DATE:20250802
DTEND;VALUE=DATE:20250804
DTSTAMP:20260421T125222
CREATED:20241219T085502Z
LAST-MODIFIED:20241219T085502Z
UID:2068-1754092800-1754265599@pension-heib.de
SUMMARY:Burgfest in Cochem (2025)
DESCRIPTION:
URL:https://pension-heib.de/veranstaltungen/burgfest-in-cochem-2025
LOCATION:Cochem\, Cochem\, Rheinland-Pfalz\, 56812\, Deutschland
END:VEVENT
BEGIN:VEVENT
DTSTART;VALUE=DATE:20250806
DTEND;VALUE=DATE:20250807
DTSTAMP:20260421T125222
CREATED:20241219T085445Z
LAST-MODIFIED:20241219T085445Z
UID:2060-1754438400-1754524799@pension-heib.de
SUMMARY:Grillabend im Hafenvorgelände in Senheim 3/4 (2025)
DESCRIPTION:
URL:https://pension-heib.de/veranstaltungen/grillabend-im-hafenvorgelaende-in-senheim-3-4-2025
LOCATION:Senheim-Senhals\, Senheim-Senhals\, Rheinland-Pfalz\, 56820\, Deutschland
END:VEVENT
BEGIN:VEVENT
DTSTART;VALUE=DATE:20250808
DTEND;VALUE=DATE:20250812
DTSTAMP:20260421T125222
CREATED:20241219T085502Z
LAST-MODIFIED:20241219T085502Z
UID:2069-1754611200-1754956799@pension-heib.de
SUMMARY:Weinfest Osterlämmchen in Ediger (2025)
DESCRIPTION:
URL:https://pension-heib.de/veranstaltungen/weinfest-osterlaemmchen-in-ediger-2025
LOCATION:Ediger-Eller\, Ediger-Eller\, Rheinland-Pfalz\, 56814\, Deutschland
END:VEVENT
BEGIN:VEVENT
DTSTART;VALUE=DATE:20250808
DTEND;VALUE=DATE:20250812
DTSTAMP:20260421T125222
CREATED:20241219T085517Z
LAST-MODIFIED:20241219T085517Z
UID:2070-1754611200-1754956799@pension-heib.de
SUMMARY:Winzerfest in Bruttig (2025)
DESCRIPTION:
URL:https://pension-heib.de/veranstaltungen/winzerfest-in-bruttig-2025
LOCATION:Bruttig-Fankel\, Bruttig-Fankel\, Rheinland-Pfalz\, 56814\, Deutschland
END:VEVENT
BEGIN:VEVENT
DTSTART;VALUE=DATE:20250813
DTEND;VALUE=DATE:20250814
DTSTAMP:20260421T125222
CREATED:20241219T085445Z
LAST-MODIFIED:20241219T085445Z
UID:2061-1755043200-1755129599@pension-heib.de
SUMMARY:Grillabend im Hafenvorgelände in Senheim 4/4 (2025)
DESCRIPTION:
URL:https://pension-heib.de/veranstaltungen/grillabend-im-hafenvorgelaende-in-senheim-4-4-2025
LOCATION:Senheim-Senhals\, Senheim-Senhals\, Rheinland-Pfalz\, 56820\, Deutschland
END:VEVENT
BEGIN:VEVENT
DTSTART;VALUE=DATE:20250815
DTEND;VALUE=DATE:20250818
DTSTAMP:20260421T125222
CREATED:20241219T085517Z
LAST-MODIFIED:20241219T085517Z
UID:2071-1755216000-1755475199@pension-heib.de
SUMMARY:Weinfest in Briedern (2025)
DESCRIPTION:
URL:https://pension-heib.de/veranstaltungen/weinfest-in-briedern-2025
LOCATION:Briedern\, Briedern\, Rheinland-Pfalz\, 56820\, Deutschland
END:VEVENT
BEGIN:VEVENT
DTSTART;VALUE=DATE:20250822
DTEND;VALUE=DATE:20250826
DTSTAMP:20260421T125222
CREATED:20241219T085517Z
LAST-MODIFIED:20241219T085517Z
UID:2072-1755820800-1756166399@pension-heib.de
SUMMARY:Weinfest in Ernst (2025)
DESCRIPTION:
URL:https://pension-heib.de/veranstaltungen/weinfest-in-ernst-2025
LOCATION:Ernst\, Ernst\, Rheinland-Pfalz\, 56814\, Deutschland
END:VEVENT
BEGIN:VEVENT
DTSTART;VALUE=DATE:20250828
DTEND;VALUE=DATE:20250902
DTSTAMP:20260421T125222
CREATED:20241219T085518Z
LAST-MODIFIED:20241219T085518Z
UID:2073-1756339200-1756771199@pension-heib.de
SUMMARY:Wein- und Heimatfest in Cochem (2025)
DESCRIPTION:
URL:https://pension-heib.de/veranstaltungen/wein-und-heimatfest-in-cochem-2025
LOCATION:Cochem\, Cochem\, Rheinland-Pfalz\, 56812\, Deutschland
END:VEVENT
END:VCALENDAR