BEGIN:VCALENDAR
VERSION:2.0
PRODID:-//Pension-Heib - ECPv6.15.20//NONSGML v1.0//EN
CALSCALE:GREGORIAN
METHOD:PUBLISH
X-ORIGINAL-URL:https://pension-heib.de
X-WR-CALDESC:Veranstaltungen für Pension-Heib
REFRESH-INTERVAL;VALUE=DURATION:PT1H
X-Robots-Tag:noindex
X-PUBLISHED-TTL:PT1H
BEGIN:VTIMEZONE
TZID:Europe/Berlin
BEGIN:DAYLIGHT
TZOFFSETFROM:+0100
TZOFFSETTO:+0200
TZNAME:CEST
DTSTART:20240331T010000
END:DAYLIGHT
BEGIN:STANDARD
TZOFFSETFROM:+0200
TZOFFSETTO:+0100
TZNAME:CET
DTSTART:20241027T010000
END:STANDARD
BEGIN:DAYLIGHT
TZOFFSETFROM:+0100
TZOFFSETTO:+0200
TZNAME:CEST
DTSTART:20250330T010000
END:DAYLIGHT
BEGIN:STANDARD
TZOFFSETFROM:+0200
TZOFFSETTO:+0100
TZNAME:CET
DTSTART:20251026T010000
END:STANDARD
BEGIN:DAYLIGHT
TZOFFSETFROM:+0100
TZOFFSETTO:+0200
TZNAME:CEST
DTSTART:20260329T010000
END:DAYLIGHT
BEGIN:STANDARD
TZOFFSETFROM:+0200
TZOFFSETTO:+0100
TZNAME:CET
DTSTART:20261025T010000
END:STANDARD
END:VTIMEZONE
BEGIN:VEVENT
DTSTART;VALUE=DATE:20250606
DTEND;VALUE=DATE:20250609
DTSTAMP:20260425T123752
CREATED:20241219T085253Z
LAST-MODIFIED:20241219T085253Z
UID:2041-1749168000-1749427199@pension-heib.de
SUMMARY:Pfingstfest in Bruttig-Fankel (2025)
DESCRIPTION:
URL:https://pension-heib.de/veranstaltungen/pfingstfest-in-bruttig-fankel-2025
LOCATION:Bruttig-Fankel\, Bruttig-Fankel\, Rheinland-Pfalz\, 56814\, Deutschland
END:VEVENT
BEGIN:VEVENT
DTSTART;VALUE=DATE:20250606
DTEND;VALUE=DATE:20250609
DTSTAMP:20260425T123752
CREATED:20241219T085253Z
LAST-MODIFIED:20241219T085253Z
UID:2042-1749168000-1749427199@pension-heib.de
SUMMARY:Pfingstweintage in Ediger (2025)
DESCRIPTION:
URL:https://pension-heib.de/veranstaltungen/pfingstweintage-in-ediger-2025
LOCATION:Ediger-Eller\, Ediger-Eller\, Rheinland-Pfalz\, 56814\, Deutschland
END:VEVENT
BEGIN:VEVENT
DTSTART;VALUE=DATE:20250607
DTEND;VALUE=DATE:20250609
DTSTAMP:20260425T123752
CREATED:20241219T085253Z
LAST-MODIFIED:20241219T085253Z
UID:2043-1749254400-1749427199@pension-heib.de
SUMMARY:Pfingstfest in Bremm (2025)
DESCRIPTION:
URL:https://pension-heib.de/veranstaltungen/pfingstfest-in-bremm-2025
LOCATION:Bremm\, Bremm\, Rheinland-Pfalz\, 56814\, Deutschland
END:VEVENT
BEGIN:VEVENT
DTSTART;VALUE=DATE:20250607
DTEND;VALUE=DATE:20250609
DTSTAMP:20260425T123752
CREATED:20241219T085253Z
LAST-MODIFIED:20241219T085253Z
UID:2044-1749254400-1749427199@pension-heib.de
SUMMARY:Pfingstfest mit Dorfturnier in Ellenz-Poltersdorf (2025)
DESCRIPTION:
URL:https://pension-heib.de/veranstaltungen/pfingstfest-mit-dorfturnier-in-ellenz-poltersdorf-2025
LOCATION:Ellenz-Poltersdorf\, Ellenz-Poltersdorf\, Rheinland-Pfalz\, 56821\, Deutschland
END:VEVENT
BEGIN:VEVENT
DTSTART;VALUE=DATE:20250613
DTEND;VALUE=DATE:20250616
DTSTAMP:20260425T123752
CREATED:20241219T085308Z
LAST-MODIFIED:20241219T085308Z
UID:2046-1749772800-1750031999@pension-heib.de
SUMMARY:Antik- und Trödelmarkt in Cochem (2025)
DESCRIPTION:
URL:https://pension-heib.de/veranstaltungen/antik-und-troedelmarkt-in-cochem-2025
LOCATION:Cochem\, Cochem\, Rheinland-Pfalz\, 56812\, Deutschland
END:VEVENT
BEGIN:VEVENT
DTSTART;VALUE=DATE:20250618
DTEND;VALUE=DATE:20250623
DTSTAMP:20260425T123752
CREATED:20241219T085308Z
LAST-MODIFIED:20241219T085308Z
UID:2045-1750204800-1750636799@pension-heib.de
SUMMARY:Mosel-Wein-Woche in Cochem (2025)
DESCRIPTION:
URL:https://pension-heib.de/veranstaltungen/mosel-wein-woche-in-cochem-2025
LOCATION:Cochem\, Cochem\, Rheinland-Pfalz\, 56812\, Deutschland
END:VEVENT
BEGIN:VEVENT
DTSTART;VALUE=DATE:20250619
DTEND;VALUE=DATE:20250623
DTSTAMP:20260425T123752
CREATED:20241219T085308Z
LAST-MODIFIED:20241219T085308Z
UID:2047-1750291200-1750636799@pension-heib.de
SUMMARY:Traktorentreffen in Briedern (2025)
DESCRIPTION:
URL:https://pension-heib.de/veranstaltungen/traktorentreffen-in-briedern-2025
LOCATION:Briedern\, Briedern\, Rheinland-Pfalz\, 56820\, Deutschland
END:VEVENT
BEGIN:VEVENT
DTSTART;VALUE=DATE:20250620
DTEND;VALUE=DATE:20250622
DTSTAMP:20260425T123752
CREATED:20241219T085308Z
LAST-MODIFIED:20241219T085308Z
UID:2048-1750377600-1750550399@pension-heib.de
SUMMARY:Historisches Weingelage in Bruttig-Fankel (2025)
DESCRIPTION:
URL:https://pension-heib.de/veranstaltungen/historisches-weingelage-in-bruttig-fankel-2025
LOCATION:Bruttig-Fankel\, Bruttig-Fankel\, Rheinland-Pfalz\, 56814\, Deutschland
END:VEVENT
BEGIN:VEVENT
DTSTART;VALUE=DATE:20250627
DTEND;VALUE=DATE:20250701
DTSTAMP:20260425T123752
CREATED:20241219T085309Z
LAST-MODIFIED:20241219T085309Z
UID:2049-1750982400-1751327999@pension-heib.de
SUMMARY:Kirmes in Treis (2025)
DESCRIPTION:
URL:https://pension-heib.de/veranstaltungen/kirmes-in-treis-2025
LOCATION:Treis-Karden\, Treis-Karden\, Rheinland-Pfalz\, 56253\, Deutschland
END:VEVENT
BEGIN:VEVENT
DTSTART;VALUE=DATE:20250628
DTEND;VALUE=DATE:20250629
DTSTAMP:20260425T123752
CREATED:20241219T085404Z
LAST-MODIFIED:20241219T085404Z
UID:2050-1751068800-1751155199@pension-heib.de
SUMMARY:Sommerfest auf der Reichsburg in Cochem (2025)
DESCRIPTION:
URL:https://pension-heib.de/veranstaltungen/sommerfest-auf-der-reichsburg-in-cochem-2025
LOCATION:Cochem\, Cochem\, Rheinland-Pfalz\, 56812\, Deutschland
END:VEVENT
BEGIN:VEVENT
DTSTART;VALUE=DATE:20250628
DTEND;VALUE=DATE:20250630
DTSTAMP:20260425T123752
CREATED:20241219T085404Z
LAST-MODIFIED:20241219T085404Z
UID:2051-1751068800-1751241599@pension-heib.de
SUMMARY:Lindenfest in Poltersdorf (2025)
DESCRIPTION:
URL:https://pension-heib.de/veranstaltungen/lindenfest-in-poltersdorf-2025
LOCATION:Ellenz-Poltersdorf\, Ellenz-Poltersdorf\, Rheinland-Pfalz\, 56821\, Deutschland
END:VEVENT
END:VCALENDAR